Workbook

Sheet Introduktion
F2: Kartläggning av nuläge:
F4: Hållbar idrott i förening
F6: Genom att svara på frågorna nedan kommer ni att få en nulägesbild av hur er förening bidrar till ett hållbart samhälle. Resultatet kan ni använda som underlag för att utveckla ert arbete. De områden som finns med i frågebatteriet är de områden som idrottsrörelsen gemensamt har identifierat som extra viktiga att arbeta med. Varje förening är unik och det kan vara så att ni inom föreningen har andra områden som är viktiga för er och kräver extra fokus, till exempel arbetsmiljö, kemikaliehantering, avfallshantering, it-säkerhet och så vidare. Skriv i så fall även ner dessa områden så att de också kommer med i ert fortsatta arbete.
F8: Så här gör ni:
F10: • FRÅGEFORMULÄR - Svara på frågorna utifrån er förenings nuvarande verksamhet och rutiner. Bedöm hur ni ligger till på en skala från 1 (gör ingenting alls) till 5 (ligger i framkant).
F11: • Alla frågor är inte relevanta för alla föreningar. Om en fråga inte passar er förenings verksamhet, välj alternativet Ej relevant.
F12: • Det är viktigt att ni svarar så ärligt som möjligt – kartläggningen handlar inte om att bedöma eller jämföra, utan att hjälpa er att få en bättre bild och förstå ert nuläge.
F13: • Om ni är osäkra på en fråga, gör en uppskattning.
F14: • Bocka endast i ett svarsalternativ per rad.
F15: • Skattningen sker utifrån de tre områdena social, ekologisk och ekonomisk hållbarhet. Utöver det finns det ett par underrubriker för att avgränsa vissa frågor.
F16: • SAMMANSTÄLLNING - Summerar och visualiserar era svar.
F17: •ÅTGÄRDSPLAN - Visar frågorna för respektive skattning och ger er möjlighet att planera förbättringsåtgärder och/eller kommentera specifika frågor.

Sheet Frågeformulär
D2: 1 | E2: 2 | F2: 3 | G2: 4 | H2: 5 | I2: Ej relevant
B3: Social hållbarhet – en trygg, inkluderande och jämställd idrott
B5: Trygg, inkluderande och jämställd idrott | Q5: Max
K6: 1 | L6: 2 | M6: 3 | N6: 4 | O6: 5
A7: 1. | B7: Vi har kartlagt nuläget och tagit fram tydliga mål och insatser för en trygg, inkluderande och jämställd idrott. | D7: FALSE | E7: FALSE | F7: FALSE | G7: FALSE | H7: FALSE | I7: FALSE | K7: =IF(D7=TRUE,1,"") | L7: =IF(E7=TRUE,2,"") | M7: =IF(F7=TRUE,3,"") | N7: =IF(G7=TRUE,4,"") | O7: =IF(H7=TRUE,5,"") | P7: =IF(I7=TRUE,"Ej relevant","") | Q7: =IF(P7="",5,0) -> 5
A9: 2. | B9: Vi har en tydlig, och bland medlemmarna känd, process eller handlingsplan för kris om något händer i föreningen (exempelvis i form av diskriminering, kränkningar och våld) | D9: FALSE | E9: FALSE | F9: FALSE | G9: FALSE | H9: FALSE | I9: FALSE | K9: =IF(D9=TRUE,1,"") | L9: =IF(E9=TRUE,2,"") | M9: =IF(F9=TRUE,3,"") | N9: =IF(G9=TRUE,4,"") | O9: =IF(H9=TRUE,5,"") | P9: =IF(I9=TRUE,"Ej relevant","") | Q9: =IF(P9="",5,0) -> 5
A11: 3. | B11: Vi har en rutin för att begära utdrag ur belastningsregistret för alla ledare i föreningen som har regelbunden kontakt med barn och unga. | D11: FALSE | E11: FALSE | F11: FALSE | G11: FALSE | H11: FALSE | I11: FALSE | K11: =IF(D11=TRUE,1,"") | L11: =IF(E11=TRUE,2,"") | M11: =IF(F11=TRUE,3,"") | N11: =IF(G11=TRUE,4,"") | O11: =IF(H11=TRUE,5,"") | P11: =IF(I11=TRUE,"Ej relevant","") | Q11: =IF(P11="",5,0) -> 5
A13: 4. | B13: Vi arbetar kontinuerligt för att motverka diskriminering, kränkningar och våld utifrån exempelvis kön, könsöverskridande identitet eller uttryck, etnisk tillhörighet, religion eller annan trosuppfattning, funktionsnedsättning, sexuell läggning eller ålder. | D13: FALSE | E13: FALSE | F13: FALSE | G13: FALSE | H13: FALSE | I13: FALSE | K13: =IF(D13=TRUE,1,"") | L13: =IF(E13=TRUE,2,"") | M13: =IF(F13=TRUE,3,"") | N13: =IF(G13=TRUE,4,"") | O13: =IF(H13=TRUE,5,"") | P13: =IF(I13=TRUE,"Ej relevant","") | Q13: =IF(P13="",5,0) -> 5
A15: 5. | B15: Vi arbetar aktivt med att förändra begränsande normer och destruktiva beteenden i form av machokultur, sexism, rasism, homo/transfobi eller liknande. | D15: FALSE | E15: FALSE | F15: FALSE | G15: FALSE | H15: FALSE | I15: FALSE | K15: =IF(D15=TRUE,1,"") | L15: =IF(E15=TRUE,2,"") | M15: =IF(F15=TRUE,3,"") | N15: =IF(G15=TRUE,4,"") | O15: =IF(H15=TRUE,5,"") | P15: =IF(I15=TRUE,"Ej relevant","") | Q15: =IF(P15="",5,0) -> 5
A17: 6. | B17: Vår verksamhet speglar samhällets sammansättning utifrån exempelvis kön, ålder, etnisk bakgrund, funktionsnedsättning eller liknande, | D17: FALSE | E17: FALSE | F17: FALSE | G17: FALSE | H17: FALSE | I17: FALSE | K17: =IF(D17=TRUE,1,"") | L17: =IF(E17=TRUE,2,"") | M17: =IF(F17=TRUE,3,"") | N17: =IF(G17=TRUE,4,"") | O17: =IF(H17=TRUE,5,"") | P17: =IF(I17=TRUE,"Ej relevant","") | Q17: =IF(P17="",5,0) -> 5
A19: 7. | B19: Vi bedriver idrott för olika målgrupper såsom idrott för alla barn och unga, idrott för målgruppen 65+ och idrott för personer med funktionsnedsättning. | D19: FALSE | E19: FALSE | F19: FALSE | G19: FALSE | H19: FALSE | I19: FALSE | K19: =IF(D19=TRUE,1,"") | L19: =IF(E19=TRUE,2,"") | M19: =IF(F19=TRUE,3,"") | N19: =IF(G19=TRUE,4,"") | O19: =IF(H19=TRUE,5,"") | P19: =IF(I19=TRUE,"Ej relevant","") | Q19: =IF(P19="",5,0) -> 5
A21: 8. | B21: Vi satsar på en jämställd idrott och att ge likvärdiga förutsättningar till medlemmar oavsett kön i form av träningstider, ekonomiska resurser, samträning, klädkoder, normer och beteenden eller liknande. | D21: FALSE | E21: FALSE | F21: FALSE | G21: FALSE | H21: FALSE | I21: FALSE | K21: =IF(D21=TRUE,1,"") | L21: =IF(E21=TRUE,2,"") | M21: =IF(F21=TRUE,3,"") | N21: =IF(G21=TRUE,4,"") | O21: =IF(H21=TRUE,5,"") | P21: =IF(I21=TRUE,"Ej relevant","") | Q21: =IF(P21="",5,0) -> 5
A23: 9. | B23: Vi skapar trygga, inkluderande och tillgängliga fysiska miljöer för exempelvis personer med funktionsnedsättning, trans- och intersexpersoner och personer i målgruppen 65+. | D23: FALSE | E23: FALSE | F23: FALSE | G23: FALSE | H23: FALSE | I23: FALSE | K23: =IF(D23=TRUE,1,"") | L23: =IF(E23=TRUE,2,"") | M23: =IF(F23=TRUE,3,"") | N23: =IF(G23=TRUE,4,"") | O23: =IF(H23=TRUE,5,"") | P23: =IF(I23=TRUE,"Ej relevant","") | Q23: =IF(P23="",5,0) -> 5
A25: 10. | B25: Vi håller nere kostnader för idrott och hittar lösningar för de som behöver i form av medlemsavgifter, läger, utrustningsbank eller “lånepool” för barn och unga som inte har råd med egen utrustning. | D25: FALSE | E25: FALSE | F25: FALSE | G25: FALSE | H25: FALSE | I25: FALSE | K25: =IF(D25=TRUE,1,"") | L25: =IF(E25=TRUE,2,"") | M25: =IF(F25=TRUE,3,"") | N25: =IF(G25=TRUE,4,"") | O25: =IF(H25=TRUE,5,"") | P25: =IF(I25=TRUE,"Ej relevant","") | Q25: =IF(P25="",5,0) -> 5
B27: Demokrati och delaktighet
A29: 11. | B29: I vår förening har alla samma makt och möjlighet att delta och påverka utformningen av sin idrott. | D29: FALSE | E29: FALSE | F29: FALSE | G29: FALSE | H29: FALSE | I29: FALSE | K29: =IF(D29=TRUE,1,"") | L29: =IF(E29=TRUE,2,"") | M29: =IF(F29=TRUE,3,"") | N29: =IF(G29=TRUE,4,"") | O29: =IF(H29=TRUE,5,"") | P29: =IF(I29=TRUE,"Ej relevant","") | Q29: =IF(P29="",5,0) -> 5
A31: 12. | B31: Vi arbetar aktivt med att stärka idrottens värdegrund och föreningens demokrati så att fler känner sig delaktiga och kan vara med och påverka verksamhetens utformning. | D31: FALSE | E31: FALSE | F31: FALSE | G31: FALSE | H31: FALSE | I31: FALSE | K31: =IF(D31=TRUE,1,"") | L31: =IF(E31=TRUE,2,"") | M31: =IF(F31=TRUE,3,"") | N31: =IF(G31=TRUE,4,"") | O31: =IF(H31=TRUE,5,"") | P31: =IF(I31=TRUE,"Ej relevant","") | Q31: =IF(P31="",5,0) -> 5
A33: 13. | B33: Vi gör barn och unga delaktiga i frågor som rör dem och utgår från barn och ungas bästa när vi motiverar våra beslut i föreningen. | D33: FALSE | E33: FALSE | F33: FALSE | G33: FALSE | H33: FALSE | I33: FALSE | K33: =IF(D33=TRUE,1,"") | L33: =IF(E33=TRUE,2,"") | M33: =IF(F33=TRUE,3,"") | N33: =IF(G33=TRUE,4,"") | O33: =IF(H33=TRUE,5,"") | P33: =IF(I33=TRUE,"Ej relevant","") | Q33: =IF(P33="",5,0) -> 5
B35: Barn- och ungdomsverksamhet
A37: 14. | B37: Vi har riktlinjer/policys för vår barn- och ungdomsverksamhet som beskriver: | K37: =IF(D37=TRUE,1,"") | L37: =IF(E37=TRUE,2,"") | M37: =IF(F37=TRUE,3,"") | N37: =IF(G37=TRUE,4,"") | O37: =IF(H37=TRUE,5,"") | P37: =IF(I37=TRUE,"Ej relevant","") | Q37: =IF(P37="",5,0) -> 5
B39: a. Hur vi i föreningen hanterar indelning av barn och ungdomar utifrån ålder, nivå, kön osv och i vilka åldrar som vilka indelningar gäller. | D39: FALSE | E39: FALSE | F39: FALSE | G39: FALSE | H39: FALSE | I39: FALSE | K39: =IF(D39=TRUE,1,"") | L39: =IF(E39=TRUE,2,"") | M39: =IF(F39=TRUE,3,"") | N39: =IF(G39=TRUE,4,"") | O39: =IF(H39=TRUE,5,"") | P39: =IF(I39=TRUE,"Ej relevant","") | Q39: =IF(P39="",5,0) -> 5
B41: b. Hur vi som förening förhåller oss till selektering, nivågruppering och andra urvalsprocesser inom den idrottsliga verksamheten. | D41: FALSE | E41: FALSE | F41: FALSE | G41: FALSE | H41: FALSE | I41: FALSE | K41: =IF(D41=TRUE,1,"") | L41: =IF(E41=TRUE,2,"") | M41: =IF(F41=TRUE,3,"") | N41: =IF(G41=TRUE,4,"") | O41: =IF(H41=TRUE,5,"") | P41: =IF(I41=TRUE,"Ej relevant","") | Q41: =IF(P41="",5,0) -> 5
B43: c. Hur ofta olika åldrar bör träna, tävla, delta vid läger och cuper under säsongen. | D43: FALSE | E43: FALSE | F43: FALSE | G43: FALSE | H43: FALSE | I43: FALSE | K43: =IF(D43=TRUE,1,"") | L43: =IF(E43=TRUE,2,"") | M43: =IF(F43=TRUE,3,"") | N43: =IF(G43=TRUE,4,"") | O43: =IF(H43=TRUE,5,"") | P43: =IF(I43=TRUE,"Ej relevant","") | Q43: =IF(P43="",5,0) -> 5
B45: d. Hur vi som förening förhåller oss till träningsnärvaro för deltagande vid tävling. | D45: FALSE | E45: FALSE | F45: FALSE | G45: FALSE | H45: FALSE | I45: FALSE | K45: =IF(D45=TRUE,1,"") | L45: =IF(E45=TRUE,2,"") | M45: =IF(F45=TRUE,3,"") | N45: =IF(G45=TRUE,4,"") | O45: =IF(H45=TRUE,5,"") | P45: =IF(I45=TRUE,"Ej relevant","") | Q45: =IF(P45="",5,0) -> 5
B47: e. Hur vi möjliggör för barn och ungdomar i föreningen att delta i andra idrotter. | D47: FALSE | E47: FALSE | F47: FALSE | G47: FALSE | H47: FALSE | I47: FALSE | K47: =IF(D47=TRUE,1,"") | L47: =IF(E47=TRUE,2,"") | M47: =IF(F47=TRUE,3,"") | N47: =IF(G47=TRUE,4,"") | O47: =IF(H47=TRUE,5,"") | P47: =IF(I47=TRUE,"Ej relevant","") | Q47: =IF(P47="",5,0) -> 5
B49: f. Vilka förväntningar föreningen har på olika roller (tränare, aktiva, vårdnadshavare) i den idrottsliga verksamheten. | D49: FALSE | E49: FALSE | F49: FALSE | G49: FALSE | H49: FALSE | I49: FALSE | K49: =IF(D49=TRUE,1,"") | L49: =IF(E49=TRUE,2,"") | M49: =IF(F49=TRUE,3,"") | N49: =IF(G49=TRUE,4,"") | O49: =IF(H49=TRUE,5,"") | P49: =IF(I49=TRUE,"Ej relevant","") | Q49: =IF(P49="",5,0) -> 5
B51: Ekologisk hållbarhet – att ta ansvar för och minska idrottens påverkan på miljö och klimat | K51: =IF(D51=TRUE,1,"") | L51: =IF(E51=TRUE,2,"") | M51: =IF(F51=TRUE,3,"") | N51: =IF(G51=TRUE,4,"") | O51: =IF(H51=TRUE,5,"")
B53: Idrottsresor | K53: =IF(D53=TRUE,1,"") | L53: =IF(E53=TRUE,2,"") | M53: =IF(F53=TRUE,3,"") | N53: =IF(G53=TRUE,4,"") | O53: =IF(H53=TRUE,5,"")
A55: 15. | B55: Vi vidtar insatser för att minska klimatpåverkan från våra resor (till exempel har samåkning som standard, cyklar, går eller åker kollektivt tillsammans) | D55: FALSE | E55: FALSE | F55: FALSE | G55: FALSE | H55: FALSE | I55: FALSE | K55: =IF(D55=TRUE,1,"") | L55: =IF(E55=TRUE,2,"") | M55: =IF(F55=TRUE,3,"") | N55: =IF(G55=TRUE,4,"") | O55: =IF(H55=TRUE,5,"") | P55: =IF(I55=TRUE,"Ej relevant","") | Q55: =IF(P55="",5,0) -> 5
A57: 16. | B57: Vi tillhandahåller utrymmen för förvaring av utrustning för att underlätta för medlemmar att samåka, cykla, gå eller åka kollektivt. | D57: FALSE | E57: FALSE | F57: FALSE | G57: FALSE | H57: FALSE | I57: FALSE | K57: =IF(D57=TRUE,1,"") | L57: =IF(E57=TRUE,2,"") | M57: =IF(F57=TRUE,3,"") | N57: =IF(G57=TRUE,4,"") | O57: =IF(H57=TRUE,5,"") | P57: =IF(I57=TRUE,"Ej relevant","") | Q57: =IF(P57="",5,0) -> 5
B59: Evenemang och mat | K59: =IF(D59=TRUE,1,"") | L59: =IF(E59=TRUE,2,"") | M59: =IF(F59=TRUE,3,"") | N59: =IF(G59=TRUE,4,"") | O59: =IF(H59=TRUE,5,"")
A61: 17. | B61: När vi anordnar föreningsevenemang såsom cuper och tävlingar gör vi medvetna val och vidtar åtgärder för att minska miljö- och klimatpåverkan. | D61: FALSE | E61: FALSE | F61: FALSE | G61: FALSE | H61: FALSE | I61: FALSE | K61: =IF(D61=TRUE,1,"") | L61: =IF(E61=TRUE,2,"") | M61: =IF(F61=TRUE,3,"") | N61: =IF(G61=TRUE,4,"") | O61: =IF(H61=TRUE,5,"") | P61: =IF(I61=TRUE,"Ej relevant","") | Q61: =IF(P61="",5,0) -> 5
A63: 18. | B63: Vi gör medvetna val och har tagit in produkter som är både hälsosamma och klimatsmarta i vår kiosk/cafeteria. | D63: FALSE | E63: FALSE | F63: FALSE | G63: FALSE | H63: FALSE | I63: FALSE | K63: =IF(D63=TRUE,1,"") | L63: =IF(E63=TRUE,2,"") | M63: =IF(F63=TRUE,3,"") | N63: =IF(G63=TRUE,4,"") | O63: =IF(H63=TRUE,5,"") | P63: =IF(I63=TRUE,"Ej relevant","") | Q63: =IF(P63="",5,0) -> 5
B65: Kläder och utrustning | K65: =IF(D65=TRUE,1,"") | L65: =IF(E65=TRUE,2,"") | M65: =IF(F65=TRUE,3,"") | N65: =IF(G65=TRUE,4,"") | O65: =IF(H65=TRUE,5,"")
A67: 19. | B67: Vi trycker inte namn på tränings- eller tävlingskläder för att göra det lättare för medlemmarna att återbruka kläder (och sänka kostnader) | D67: FALSE | E67: FALSE | F67: FALSE | G67: FALSE | H67: FALSE | I67: FALSE | K67: =IF(D67=TRUE,1,"") | L67: =IF(E67=TRUE,2,"") | M67: =IF(F67=TRUE,3,"") | N67: =IF(G67=TRUE,4,"") | O67: =IF(H67=TRUE,5,"") | P67: =IF(I67=TRUE,"Ej relevant","") | Q67: =IF(P67="",5,0) -> 5
A69: 20. | B69: Vi tillhandahåller köp- och säljkanaler och/eller möjligheter för medlemmar att återbruka föreningskläder och utrustning ( till exempel köp- och säljsida i sociala medier, köp- och säljdag). | D69: FALSE | E69: FALSE | F69: FALSE | G69: FALSE | H69: FALSE | I69: FALSE | K69: =IF(D69=TRUE,1,"") | L69: =IF(E69=TRUE,2,"") | M69: =IF(F69=TRUE,3,"") | N69: =IF(G69=TRUE,4,"") | O69: =IF(H69=TRUE,5,"") | P69: =IF(I69=TRUE,"Ej relevant","") | Q69: =IF(P69="",5,0) -> 5
A71: 21. | B71: Vi delar utrustning mellan olika träningsgrupper i föreningen (där möjligt). | D71: FALSE | E71: FALSE | F71: FALSE | G71: FALSE | H71: FALSE | I71: FALSE | K71: =IF(D71=TRUE,1,"") | L71: =IF(E71=TRUE,2,"") | M71: =IF(F71=TRUE,3,"") | N71: =IF(G71=TRUE,4,"") | O71: =IF(H71=TRUE,5,"") | P71: =IF(I71=TRUE,"Ej relevant","") | Q71: =IF(P71="",5,0) -> 5
B73: Energi och vatten | K73: =IF(D73=TRUE,1,"") | L73: =IF(E73=TRUE,2,"") | M73: =IF(F73=TRUE,3,"") | N73: =IF(G73=TRUE,4,"") | O73: =IF(H73=TRUE,5,"")
A75: 22. | B75: Vi gör insatser för att minska energi- och vattenförbrukningen ( till exempel använder vatten effektivt, informerar om att släcka belysning, har timer på belysning mm). | D75: FALSE | E75: FALSE | F75: FALSE | G75: FALSE | H75: FALSE | I75: FALSE | K75: =IF(D75=TRUE,1,"") | L75: =IF(E75=TRUE,2,"") | M75: =IF(F75=TRUE,3,"") | N75: =IF(G75=TRUE,4,"") | O75: =IF(H75=TRUE,5,"") | P75: =IF(I75=TRUE,"Ej relevant","") | Q75: =IF(P75="",5,0) -> 5
A77: 23. | B77: Vi har dialog med fastighetsägaren för att energi- och vatteneffektivisera anläggningen. | D77: FALSE | E77: FALSE | F77: FALSE | G77: FALSE | H77: FALSE | I77: FALSE | K77: =IF(D77=TRUE,1,"") | L77: =IF(E77=TRUE,2,"") | M77: =IF(F77=TRUE,3,"") | N77: =IF(G77=TRUE,4,"") | O77: =IF(H77=TRUE,5,"") | P77: =IF(I77=TRUE,"Ej relevant","") | Q77: =IF(P77="",5,0) -> 5
A79: 24. | B79: Vi köper el från förnybara källor (sol, vind, vatten, i de fall föreningen kan påverka detta). | D79: FALSE | E79: FALSE | F79: FALSE | G79: FALSE | H79: FALSE | I79: FALSE | P79: =IF(I79=TRUE,"Ej relevant","") | Q79: =IF(P79="",5,0) -> 5
B81: Ekosystem och biologisk mångfald | K81: =IF(D81=TRUE,1,"") | L81: =IF(E81=TRUE,2,"") | M81: =IF(F81=TRUE,3,"") | N81: =IF(G81=TRUE,4,"") | O81: =IF(H81=TRUE,5,"")
A83: 25. | B83: Vi gör insatser för att främja ekosystem och biologisk mångfald på och runt anläggningen (ill exempel klipper gräs mer sällan, släcker belysning nattetid, har växtlighet som gynnar pollinatörer mm). | D83: FALSE | E83: FALSE | F83: FALSE | G83: FALSE | H83: FALSE | I83: FALSE | K83: =IF(D83=TRUE,1,"") | L83: =IF(E83=TRUE,2,"") | M83: =IF(F83=TRUE,3,"") | N83: =IF(G83=TRUE,4,"") | O83: =IF(H83=TRUE,5,"") | P83: =IF(I83=TRUE,"Ej relevant","") | Q83: =IF(P83="",5,0) -> 5
B85: Ekonomisk hållbarhet – en ansvarsfull och transparent hantering av ekonomiska medel | K85: =IF(D85=TRUE,1,"") | L85: =IF(E85=TRUE,2,"") | M85: =IF(F85=TRUE,3,"") | N85: =IF(G85=TRUE,4,"") | O85: =IF(H85=TRUE,5,"")
B87: Ansvar och transparens | K87: =IF(D87=TRUE,1,"") | L87: =IF(E87=TRUE,2,"") | M87: =IF(F87=TRUE,3,"") | N87: =IF(G87=TRUE,4,"") | O87: =IF(H87=TRUE,5,"")
A89: 26. | B89: Vi har riktlinjer för att minska risken för oegentligheter inom till exempel ekonomi, upphandling, sponsring och representation. | D89: FALSE | E89: FALSE | F89: FALSE | G89: FALSE | H89: FALSE | I89: FALSE | K89: =IF(D89=TRUE,1,"") | L89: =IF(E89=TRUE,2,"") | M89: =IF(F89=TRUE,3,"") | N89: =IF(G89=TRUE,4,"") | O89: =IF(H89=TRUE,5,"") | P89: =IF(I89=TRUE,"Ej relevant","") | Q89: =IF(P89="",5,0) -> 5
A91: 27. | B91: Vi har en transparent budget och redovisning som är tillgänglig för medlemmarna. | D91: FALSE | E91: FALSE | F91: FALSE | G91: FALSE | H91: FALSE | I91: FALSE | K91: =IF(D91=TRUE,1,"") | L91: =IF(E91=TRUE,2,"") | M91: =IF(F91=TRUE,3,"") | N91: =IF(G91=TRUE,4,"") | O91: =IF(H91=TRUE,5,"") | P91: =IF(I91=TRUE,"Ej relevant","") | Q91: =IF(P91="",5,0) -> 5
A93: 28. | B93: Vi använder revisorer och ser till att bokföringen följer god praxis. | D93: FALSE | E93: FALSE | F93: FALSE | G93: FALSE | H93: FALSE | I93: FALSE | K93: =IF(D93=TRUE,1,"") | L93: =IF(E93=TRUE,2,"") | M93: =IF(F93=TRUE,3,"") | N93: =IF(G93=TRUE,4,"") | O93: =IF(H93=TRUE,5,"") | P93: =IF(I93=TRUE,"Ej relevant","") | Q93: =IF(P93="",5,0) -> 5
A95: 29. | B95: Vi säkerställer att beslut fattas på årsmöten och att medlemmar har insyn och möjlighet att påverka. | D95: FALSE | E95: FALSE | F95: FALSE | G95: FALSE | H95: FALSE | I95: FALSE | K95: =IF(D95=TRUE,1,"") | L95: =IF(E95=TRUE,2,"") | M95: =IF(F95=TRUE,3,"") | N95: =IF(G95=TRUE,4,"") | O95: =IF(H95=TRUE,5,"") | P95: =IF(I95=TRUE,"Ej relevant","") | Q95: =IF(P95="",5,0) -> 5
A97: 30. | B97: Vi är fler än en person som deltar vid viktiga beslut och vid större betalningar. | D97: FALSE | E97: FALSE | F97: FALSE | G97: FALSE | H97: FALSE | I97: FALSE | K97: =IF(D97=TRUE,1,"") | L97: =IF(E97=TRUE,2,"") | M97: =IF(F97=TRUE,3,"") | N97: =IF(G97=TRUE,4,"") | O97: =IF(H97=TRUE,5,"") | P97: =IF(I97=TRUE,"Ej relevant","") | Q97: =IF(P97="",5,0) -> 5
A99: 31. | B99: Eventuella ekonomiska placeringar har en hållbarhetsprofil. | D99: FALSE | E99: FALSE | F99: FALSE | G99: FALSE | H99: FALSE | I99: FALSE | K99: =IF(D99=TRUE,1,"") | L99: =IF(E99=TRUE,2,"") | M99: =IF(F99=TRUE,3,"") | N99: =IF(G99=TRUE,4,"") | O99: =IF(H99=TRUE,5,"") | P99: =IF(I99=TRUE,"Ej relevant","") | Q99: =IF(P99="",5,0) -> 5
A101: 32. | B101: Vi samarbetar med partners som utifrån sina förutsättningar tar ansvar för sin påverkan och arbetar aktivt för ökad hållbarhet. | D101: FALSE | E101: FALSE | F101: FALSE | G101: FALSE | H101: FALSE | I101: FALSE | K101: =IF(D101=TRUE,1,"") | L101: =IF(E101=TRUE,2,"") | M101: =IF(F101=TRUE,3,"") | N101: =IF(G101=TRUE,4,"") | O101: =IF(H101=TRUE,5,"") | P101: =IF(I101=TRUE,"Ej relevant","") | Q101: =IF(P101="",5,0) -> 5
A103: 33. | B103: Styrelsemedlemmar erbjuds i samverkan med RF-SISU distriktet utbildning i föreningskunskap | D103: FALSE | E103: FALSE | F103: FALSE | G103: FALSE | H103: FALSE | I103: FALSE | K103: =IF(D103=TRUE,1,"") | L103: =IF(E103=TRUE,2,"") | M103: =IF(F103=TRUE,3,"") | N103: =IF(G103=TRUE,4,"") | O103: =IF(H103=TRUE,5,"") | P103: =IF(I103=TRUE,"Ej relevant","") | Q103: =IF(P103="",5,0) -> 5
K104: =COUNTIF(K7:K103,"1") -> 0 | L104: =COUNTIF(L7:L103,"2") -> 0 | M104: =COUNTIF(M7:M103,"3") -> 0 | N104: =COUNTIF(N7:N103,"4") -> 0 | O104: =COUNTIF(O7:O103,"5") -> 0 | P104: =COUNTIF(P7:P103,"Ej relevant") -> 0 | R104: =SUM(K104:O104) -> 0 | S104: 52
J105: Summa score: | K105: =SUM(K7:K103) -> 0 | L105: =SUM(L7:L103) -> 0 | M105: =SUM(M7:M103) -> 0 | N105: =SUM(N7:N103) -> 0 | O105: =SUM(O7:O103) -> 0 | S105: =SUM(Q7:Q103) -> 195
K106: =K105/$S$105 -> 0 | L106: =L105/$S$105 -> 0 | M106: =M105/$S$105 -> 0 | N106: =N105/$S$105 -> 0 | O106: =O105/$S$105 -> 0 | Q106: Medel
K107: =IF(K105=0,"",K105/K104) | L107: =IF(L105=0,"",L105/L104) | M107: =IF(M105=0,"",M105/M104) | N107: =IF(N105=0,"",N105/N104) | O107: =IF(O105=0,"",O105/O104)
K109: Snittresultat
K111: Totalt | L111: =AVERAGE(Frågeformulär!K7:O103) -> #DIV/0!
P112: 1 | Q112: 2 | R112: 3 | S112: 4 | T112: 5 | U112: Ej relevant
K113: Social hållbarhet – en trygg, inkluderande och jämställd idrott | L113: =AVERAGE(Frågeformulär!K7:O49) -> #DIV/0! | O113: Social hållbarhet – en trygg, inkluderande och jämställd idrott | P113: =COUNTIF(K7:K49,1) -> 0 | Q113: =COUNTIF(L7:L49,2) -> 0 | R113: =COUNTIF(M7:M49,3) -> 0 | S113: =COUNTIF(N7:N49,4) -> 0 | T113: =COUNTIF(O7:O49,5) -> 0 | U113: =COUNTIF(P7:P49,"Ej relevant") -> 0
K114: Ekologisk hållbarhet – att ta ansvar för och minska idrottens påverkan på miljö och klimat | L114: =AVERAGE(Frågeformulär!K55:O83) -> #DIV/0! | O114: Ekologisk hållbarhet – att ta ansvar för och minska idrottens påverkan på miljö och klimat | P114: =COUNTIF($K$55:$P$83,1) -> 0 | Q114: =COUNTIF($K$55:$P$83,2) -> 0 | R114: =COUNTIF($K$55:$P$83,3) -> 0 | S114: =COUNTIF($K$55:$P$83,4) -> 0 | T114: =COUNTIF($K$55:$P$83,5) -> 0 | U114: =COUNTIF($K$55:$P$83,"Ej relevant") -> 0
K115: Ekonomisk hållbarhet – en ansvarsfull och transparent hantering av ekonomiska medel | L115: =AVERAGE(Frågeformulär!K89:O103) -> #DIV/0! | O115: Ekonomisk hållbarhet – en ansvarsfull och transparent hantering av ekonomiska medel | P115: =COUNTIF($K$89:$P$103,1) -> 0 | Q115: =COUNTIF($K$89:$P$103,2) -> 0 | R115: =COUNTIF($K$89:$P$103,3) -> 0 | S115: =COUNTIF($K$89:$P$103,4) -> 0 | T115: =COUNTIF($K$89:$P$103,5) -> 0 | U115: =COUNTIF($K$89:$P$103,"Ej relevant") -> 0
L117: 1 | M117: 2 | N117: 3 | O117: 4 | P117: 5 | Q117: Ej relevant
K118: Trygg, inkluderande och jämställd idrott | L118: =COUNTIF($K$7:$P$25,1) -> 0 | M118: =COUNTIF($K$7:$P$25,2) -> 0 | N118: =COUNTIF($K$7:$P$25,3) -> 0 | O118: =COUNTIF($K$7:$P$25,4) -> 0 | P118: =COUNTIF($K$7:$P$25,5) -> 0 | Q118: =COUNTIF($K$7:$P$25,"Ej relevant") -> 0
K119: Demokrati och delaktighet | L119: =COUNTIF($K$29:$P$33,1) -> 0 | M119: =COUNTIF($K$29:$P$33,2) -> 0 | N119: =COUNTIF($K$29:$P$33,3) -> 0 | O119: =COUNTIF($K$29:$P$33,4) -> 0 | P119: =COUNTIF($K$29:$P$33,5) -> 0 | Q119: =COUNTIF($K$29:$P$33,"Ej relevant") -> 0
K120: Barn- och ungdomsverksamhet | L120: =COUNTIF($K$37:$P$49,1) -> 0 | M120: =COUNTIF($K$37:$P$49,2) -> 0 | N120: =COUNTIF($K$37:$P$49,3) -> 0 | O120: =COUNTIF($K$37:$P$49,4) -> 0 | P120: =COUNTIF($K$37:$P$49,5) -> 0 | Q120: =COUNTIF($K$37:$P$49,"Ej relevant") -> 0
L122: 1 | M122: 2 | N122: 3 | O122: 4 | P122: 5 | Q122: Ej relevant
K123: Idrottsresor | L123: =COUNTIF($K$55:$P$57,1) -> 0 | M123: =COUNTIF($K$55:$P$57,2) -> 0 | N123: =COUNTIF($K$55:$P$57,3) -> 0 | O123: =COUNTIF($K$55:$P$57,4) -> 0 | P123: =COUNTIF($K$55:$P$57,5) -> 0 | Q123: =COUNTIF($K$55:$P$57,"Ej relevant") -> 0
K124: Evenemang och mat | L124: =COUNTIF($K$61:$P$63,1) -> 0 | M124: =COUNTIF($K$61:$P$63,2) -> 0 | N124: =COUNTIF($K$61:$P$63,3) -> 0 | O124: =COUNTIF($K$61:$P$63,4) -> 0 | P124: =COUNTIF($K$61:$P$63,5) -> 0 | Q124: =COUNTIF($K$61:$P$63,"Ej relevant") -> 0
K125: Kläder och utrustning | L125: =COUNTIF($K$67:$P$71,1) -> 0 | M125: =COUNTIF($K$67:$P$71,2) -> 0 | N125: =COUNTIF($K$67:$P$71,3) -> 0 | O125: =COUNTIF($K$67:$P$71,4) -> 0 | P125: =COUNTIF($K$67:$P$71,5) -> 0 | Q125: =COUNTIF($K$67:$P$71,"Ej relevant") -> 0
K126: Energi och vatten | L126: =COUNTIF(K75:P79,1) -> 0 | M126: =COUNTIF(K75:P79,2) -> 0 | N126: =COUNTIF(K75:P79,3) -> 0 | O126: =COUNTIF(K75:P79,4) -> 0 | P126: =COUNTIF(K75:P79,5) -> 0 | Q126: =COUNTIF(K75:P79,"Ej relevant") -> 0
K127: Ekosystem och biologisk mångfald | L127: =COUNTIF($K$83:$P$83,1) -> 0 | M127: =COUNTIF($K$83:$P$83,2) -> 0 | N127: =COUNTIF($K$83:$P$83,3) -> 0 | O127: =COUNTIF($K$83:$P$83,4) -> 0 | P127: =COUNTIF($K$83:$P$83,5) -> 0 | Q127: =COUNTIF($K$83:$P$83,"EJ relevant") -> 0
M131: 1 | N131: 2 | O131: 3 | P131: 4 | Q131: 5 | R131: Ej relevant
K132: Ansvar och transparens | M132: =COUNTIF(K89:P103,1) -> 0 | N132: =COUNTIF(K89:P103,2) -> 0 | O132: =COUNTIF(K89:P103,3) -> 0 | P132: =COUNTIF(K89:P103,4) -> 0 | Q132: =COUNTIF(K89:P103,5) -> 0 | R132: =COUNTIF(P89:U103,"Ej relevant") -> 0

Sheet Sammanställning
C2: Hållbar idrott i förening
C3: Sammanställning av svar
Q57: Medelvärde område
Q58: =Frågeformulär!L113 -> #DIV/0!
Q103: Medelvärde område
Q104: =Frågeformulär!L114 -> #DIV/0!
Q157: Medelvärde område
Q158: =Frågeformulär!L115 -> #DIV/0!

Sheet Åtgärdsplan
A1: Skattat 1 | B1: Åtgärd | C1: Ansvarig | D1: Måldatum | E1: Kommentar | F1: Skattat 2 | G1: Åtgärd | H1: Ansvarig | I1: Måldatum | J1: Kommentar | K1: Skattat 3 | L1: Åtgärd | M1: Ansvarig | N1: Måldatum | O1: Kommentar | P1: Skattat 4 | Q1: Åtgärd | R1: Ansvarig | S1: Måldatum | T1: Kommentar | U1: Skattat 5 | V1: Åtgärd | W1: Ansvarig | X1: Måldatum | Y1: Kommentar
A2: {=_xlfn._xlws.FILTER(Data!A1:A120,Data!A1:A120<>"")} -> #VALUE! | F2: {=_xlfn._xlws.FILTER(Data!B1:B120,Data!B1:B120<>"")} -> #VALUE! | K2: {=_xlfn._xlws.FILTER(Data!C1:C120,Data!C1:C120<>"")} -> #VALUE! | P2: {=_xlfn._xlws.FILTER(Data!D1:D120,Data!D1:D120<>"")} -> #VALUE! | U2: {=_xlfn._xlws.FILTER(Data!E1:E120,Data!E1:E120<>"")} -> #VALUE!

Sheet Data
A1: {=IF(Frågeformulär!K7:K103=1,Frågeformulär!B7:B103,"")} | B1: {=IF(Frågeformulär!L7:L103=2,Frågeformulär!B7:B103,"")} | C1: {=IF(Frågeformulär!M7:M103=3,Frågeformulär!B7:B103,"")} | D1: {=IF(Frågeformulär!N7:N103=4,Frågeformulär!B7:B103,"")} | E1: {=IF(Frågeformulär!O7:O103=5,Frågeformulär!B7:B103,"")}

Sheet Data 2
B1: Medelvärde
A2: Trygg, inkluderande och jämställd idrott | B2: =AVERAGE(Frågeformulär!$K$7:$O$25) -> #DIV/0!
A3: Demokrati och delaktighet | B3: =AVERAGE(Frågeformulär!$K$29:$O$33) -> #DIV/0!
A4: Barn- och ungdomsverksamhet | B4: =AVERAGE(Frågeformulär!$K$39:$P$49) -> #DIV/0!
A6: Idrottsresor | B6: =AVERAGE(Frågeformulär!K55:O57) -> #DIV/0!
A7: Evenemang och mat | B7: =AVERAGE(Frågeformulär!K61:O67) -> #DIV/0!
A8: Kläder och utrustning | B8: =AVERAGE(Frågeformulär!K67:O71) -> #DIV/0!
A9: Energi och vatten | B9: =AVERAGE(Frågeformulär!K75:O79) -> #DIV/0!
A10: Ekosystem och biologisk mångfald | B10: =AVERAGE(Frågeformulär!K83:O83) -> #DIV/0!
A12: Ansvar och transparens | B12: =AVERAGE(Frågeformulär!K89:O103) -> #DIV/0!
